BEGIN:VCALENDAR
VERSION:2.0
PRODID:-//Public Participation Network Limerick - ECPv6.15.18//NONSGML v1.0//EN
CALSCALE:GREGORIAN
METHOD:PUBLISH
X-WR-CALNAME:Public Participation Network Limerick
X-ORIGINAL-URL:https://www.limerickppn.ie
X-WR-CALDESC:Events for Public Participation Network Limerick
REFRESH-INTERVAL;VALUE=DURATION:PT1H
X-Robots-Tag:noindex
X-PUBLISHED-TTL:PT1H
BEGIN:VTIMEZONE
TZID:Europe/Dublin
BEGIN:STANDARD
TZOFFSETFROM:+0000
TZOFFSETTO:+0100
TZNAME:IST
DTSTART:20210328T010000
END:STANDARD
BEGIN:DAYLIGHT
TZOFFSETFROM:+0100
TZOFFSETTO:+0000
TZNAME:GMT
DTSTART:20211031T010000
END:DAYLIGHT
BEGIN:STANDARD
TZOFFSETFROM:+0000
TZOFFSETTO:+0100
TZNAME:IST
DTSTART:20220327T010000
END:STANDARD
BEGIN:DAYLIGHT
TZOFFSETFROM:+0100
TZOFFSETTO:+0000
TZNAME:GMT
DTSTART:20221030T010000
END:DAYLIGHT
BEGIN:STANDARD
TZOFFSETFROM:+0000
TZOFFSETTO:+0100
TZNAME:IST
DTSTART:20230326T010000
END:STANDARD
BEGIN:DAYLIGHT
TZOFFSETFROM:+0100
TZOFFSETTO:+0000
TZNAME:GMT
DTSTART:20231029T010000
END:DAYLIGHT
END:VTIMEZONE
BEGIN:VEVENT
DTSTART;TZID=Europe/Dublin:20220612T190000
DTEND;TZID=Europe/Dublin:20220612T190000
DTSTAMP:20260424T231815
CREATED:20220609T141053Z
LAST-MODIFIED:20220609T141054Z
UID:20524-1655060400-1655060400@www.limerickppn.ie
SUMMARY:LG Meeting/Community\, Leisure & Culture
DESCRIPTION:A meeting of the Community\, Leisure & Culture Linkage Group takes place via Zoom online at 7.00 pm  Sunday\, June 12th 2022. \nZoom link available on the LG Salesforce Chatter page.\nCommunity\, Leisure & Culture
URL:https://www.limerickppn.ie/event/lg-meeting-community-leisure-culture/
LOCATION:Zoom\, online
CATEGORIES:Linkage Group meeting
ATTACH;FMTTYPE=image/jpeg:https://www.limerickppn.ie/wp-content/uploads/2019/11/Local-Community-Development-Committee.jpg
END:VEVENT
BEGIN:VEVENT
DTSTART;TZID=Europe/Dublin:20220516T190000
DTEND;TZID=Europe/Dublin:20220516T190000
DTSTAMP:20260424T231815
CREATED:20220503T153439Z
LAST-MODIFIED:20220503T163723Z
UID:20396-1652727600-1652727600@www.limerickppn.ie
SUMMARY:LG Meeting/Urban and Rural Community Development & Social Inclusion
DESCRIPTION:A meeting of the Urban and Rural Community Development & Social Inclusion Linkage Group\, the Linkage Group aligned to the Local Community Development Committee (LCDC)\, will take place via Zoom online at 7pm on Monday\, May 16th.\nFacilitator: David Tobin\, PPN Representative/Limerick Pedestrian Network.\nA Zoom link will be emailed in advance to LG members and posted on the Chatter Group page for this Linkage Group.
URL:https://www.limerickppn.ie/event/lg-meeting-urban-and-rural-community-development-social-inclusion/
LOCATION:Zoom\, online
CATEGORIES:Community & Voluntary,Linkage Group meeting
ATTACH;FMTTYPE=image/png:https://www.limerickppn.ie/wp-content/uploads/2020/10/Small-LCDC.png
END:VEVENT
BEGIN:VEVENT
DTSTART;TZID=Europe/Dublin:20220322T193000
DTEND;TZID=Europe/Dublin:20220322T193000
DTSTAMP:20260424T231815
CREATED:20220322T115334Z
LAST-MODIFIED:20220322T115334Z
UID:20305-1647977400-1647977400@www.limerickppn.ie
SUMMARY:Economic Development\, Enterprise & Planning LG meeting
DESCRIPTION:A meeting of the Economic Development\, Enterprise & Planning Linkage Group takes place via Zoom online at 7.30 pm  Tuesday\, March 22nd 2022. \nZoom link available on the LG Salesforce Chatter page. \nAgenda: \n\nItems/Motions to be submitted for SPC Agenda\nTown Centre First Policy\nMungret Community Centre\nAOB
URL:https://www.limerickppn.ie/event/economic-development-enterprise-planning-lg-meeting/
CATEGORIES:Linkage Group meeting
ATTACH;FMTTYPE=image/jpeg:https://www.limerickppn.ie/wp-content/uploads/2017/01/Economic-Development-Enterprise-Planning1.jpg
END:VEVENT
BEGIN:VEVENT
DTSTART;TZID=Europe/Dublin:20220303T193000
DTEND;TZID=Europe/Dublin:20220303T203000
DTSTAMP:20260424T231815
CREATED:20220301T163827Z
LAST-MODIFIED:20220301T163827Z
UID:20040-1646335800-1646339400@www.limerickppn.ie
SUMMARY:Community\, Safety & Policing
DESCRIPTION:
URL:https://www.limerickppn.ie/event/community-safety-policing/
LOCATION:Zoom\, online
CATEGORIES:Linkage Group meeting
END:VEVENT
END:VCALENDAR