BEGIN:VCALENDAR
VERSION:2.0
PRODID:-//Public Participation Network Limerick - ECPv6.15.18//NONSGML v1.0//EN
CALSCALE:GREGORIAN
METHOD:PUBLISH
X-WR-CALNAME:Public Participation Network Limerick
X-ORIGINAL-URL:https://www.limerickppn.ie
X-WR-CALDESC:Events for Public Participation Network Limerick
REFRESH-INTERVAL;VALUE=DURATION:PT1H
X-Robots-Tag:noindex
X-PUBLISHED-TTL:PT1H
BEGIN:VTIMEZONE
TZID:Europe/Dublin
BEGIN:STANDARD
TZOFFSETFROM:+0000
TZOFFSETTO:+0100
TZNAME:IST
DTSTART:20210328T010000
END:STANDARD
BEGIN:DAYLIGHT
TZOFFSETFROM:+0100
TZOFFSETTO:+0000
TZNAME:GMT
DTSTART:20211031T010000
END:DAYLIGHT
BEGIN:STANDARD
TZOFFSETFROM:+0000
TZOFFSETTO:+0100
TZNAME:IST
DTSTART:20220327T010000
END:STANDARD
BEGIN:DAYLIGHT
TZOFFSETFROM:+0100
TZOFFSETTO:+0000
TZNAME:GMT
DTSTART:20221030T010000
END:DAYLIGHT
BEGIN:STANDARD
TZOFFSETFROM:+0000
TZOFFSETTO:+0100
TZNAME:IST
DTSTART:20230326T010000
END:STANDARD
BEGIN:DAYLIGHT
TZOFFSETFROM:+0100
TZOFFSETTO:+0000
TZNAME:GMT
DTSTART:20231029T010000
END:DAYLIGHT
END:VTIMEZONE
BEGIN:VEVENT
DTSTART;TZID=Europe/Dublin:20220609T193000
DTEND;TZID=Europe/Dublin:20220609T193000
DTSTAMP:20260424T213649
CREATED:20220608T162153Z
LAST-MODIFIED:20220608T162153Z
UID:20522-1654803000-1654803000@www.limerickppn.ie
SUMMARY:LG Meeting/Home & Social Development
DESCRIPTION:A meeting of the Home & Social Development Linkage Group takes place via Zoom online at 7.30 pm  Thursday\, June 9th 2022. \nZoom link available on the LG Salesforce Chatter page. \nHome & Social Development
URL:https://www.limerickppn.ie/event/lg-meeting-home-social-development/
LOCATION:Zoom\, online
CATEGORIES:PPN Meeting
ATTACH;FMTTYPE=image/jpeg:https://www.limerickppn.ie/wp-content/uploads/2019/11/home-social-development.jpg
END:VEVENT
BEGIN:VEVENT
DTSTART;TZID=Europe/Dublin:20220428T193000
DTEND;TZID=Europe/Dublin:20220428T193000
DTSTAMP:20260424T213649
CREATED:20220311T165126Z
LAST-MODIFIED:20220315T123719Z
UID:20275-1651174200-1651174200@www.limerickppn.ie
SUMMARY:Limerick PPN Plenary Meeting
DESCRIPTION:The next meeting of the Limerick PPN Plenary will take place on Thursday\, April 28th at 7:30pm\nFurther details to be confirmed.
URL:https://www.limerickppn.ie/event/limerick-ppn-plenary-meeting/
CATEGORIES:PPN Meeting
ATTACH;FMTTYPE=image/jpeg:https://www.limerickppn.ie/wp-content/uploads/2020/04/PPN_logo_long.jpg
END:VEVENT
END:VCALENDAR